BEGIN:VCALENDAR
VERSION:2.0
PRODID:-//Town of Windham - ECPv6.15.18//NONSGML v1.0//EN
CALSCALE:GREGORIAN
METHOD:PUBLISH
X-WR-CALNAME:Town of Windham
X-ORIGINAL-URL:https://townofwindhamny.com
X-WR-CALDESC:Events for Town of Windham
REFRESH-INTERVAL;VALUE=DURATION:PT1H
X-Robots-Tag:noindex
X-PUBLISHED-TTL:PT1H
BEGIN:VTIMEZONE
TZID:America/New_York
BEGIN:DAYLIGHT
TZOFFSETFROM:-0500
TZOFFSETTO:-0400
TZNAME:EDT
DTSTART:20230312T070000
END:DAYLIGHT
BEGIN:STANDARD
TZOFFSETFROM:-0400
TZOFFSETTO:-0500
TZNAME:EST
DTSTART:20231105T060000
END:STANDARD
BEGIN:DAYLIGHT
TZOFFSETFROM:-0500
TZOFFSETTO:-0400
TZNAME:EDT
DTSTART:20240310T070000
END:DAYLIGHT
BEGIN:STANDARD
TZOFFSETFROM:-0400
TZOFFSETTO:-0500
TZNAME:EST
DTSTART:20241103T060000
END:STANDARD
BEGIN:DAYLIGHT
TZOFFSETFROM:-0500
TZOFFSETTO:-0400
TZNAME:EDT
DTSTART:20250309T070000
END:DAYLIGHT
BEGIN:STANDARD
TZOFFSETFROM:-0400
TZOFFSETTO:-0500
TZNAME:EST
DTSTART:20251102T060000
END:STANDARD
END:VTIMEZONE
BEGIN:VEVENT
DTSTART;TZID=America/New_York:20241003T190000
DTEND;TZID=America/New_York:20241003T190000
DTSTAMP:20260422T015352
CREATED:20231230T011927Z
LAST-MODIFIED:20231230T011927Z
UID:75012-1727982000-1727982000@townofwindhamny.com
SUMMARY:Planning Board Meeting
DESCRIPTION:
URL:https://townofwindhamny.com/event/planning-board-meeting-47/
LOCATION:Town Hall
CATEGORIES:Planning Board
ORGANIZER;CN="Town of Windham":MAILTO:windhamnytownclerk@gmail.com
END:VEVENT
BEGIN:VEVENT
DTSTART;TZID=America/New_York:20241010T190000
DTEND;TZID=America/New_York:20241010T190000
DTSTAMP:20260422T015352
CREATED:20231230T010521Z
LAST-MODIFIED:20231230T010521Z
UID:74963-1728586800-1728586800@townofwindhamny.com
SUMMARY:Town Board Meeting
DESCRIPTION:
URL:https://townofwindhamny.com/event/town-board-meeting-47/
LOCATION:Town Hall
CATEGORIES:Town Board
ORGANIZER;CN="Town of Windham":MAILTO:windhamnytownclerk@gmail.com
END:VEVENT
BEGIN:VEVENT
DTSTART;TZID=America/New_York:20241017T190000
DTEND;TZID=America/New_York:20241017T190000
DTSTAMP:20260422T015352
CREATED:20231230T012248Z
LAST-MODIFIED:20231230T012248Z
UID:75014-1729191600-1729191600@townofwindhamny.com
SUMMARY:Planning Board Meeting
DESCRIPTION:
URL:https://townofwindhamny.com/event/planning-board-meeting-48/
LOCATION:Town Hall
CATEGORIES:Planning Board
ORGANIZER;CN="Town of Windham":MAILTO:windhamnytownclerk@gmail.com
END:VEVENT
BEGIN:VEVENT
DTSTART;TZID=America/New_York:20241024T190000
DTEND;TZID=America/New_York:20241024T190000
DTSTAMP:20260422T015352
CREATED:20231230T010534Z
LAST-MODIFIED:20231230T010534Z
UID:74965-1729796400-1729796400@townofwindhamny.com
SUMMARY:Town Board Meeting
DESCRIPTION:
URL:https://townofwindhamny.com/event/town-board-meeting-48/
LOCATION:Town Hall
CATEGORIES:Town Board
ORGANIZER;CN="Town of Windham":MAILTO:windhamnytownclerk@gmail.com
END:VEVENT
END:VCALENDAR