BEGIN:VCALENDAR
VERSION:2.0
PRODID:-//Town of Windham - ECPv6.15.18//NONSGML v1.0//EN
CALSCALE:GREGORIAN
METHOD:PUBLISH
X-ORIGINAL-URL:https://townofwindhamny.com
X-WR-CALDESC:Events for Town of Windham
REFRESH-INTERVAL;VALUE=DURATION:PT1H
X-Robots-Tag:noindex
X-PUBLISHED-TTL:PT1H
BEGIN:VTIMEZONE
TZID:America/New_York
BEGIN:DAYLIGHT
TZOFFSETFROM:-0500
TZOFFSETTO:-0400
TZNAME:EDT
DTSTART:20230312T070000
END:DAYLIGHT
BEGIN:STANDARD
TZOFFSETFROM:-0400
TZOFFSETTO:-0500
TZNAME:EST
DTSTART:20231105T060000
END:STANDARD
BEGIN:DAYLIGHT
TZOFFSETFROM:-0500
TZOFFSETTO:-0400
TZNAME:EDT
DTSTART:20240310T070000
END:DAYLIGHT
BEGIN:STANDARD
TZOFFSETFROM:-0400
TZOFFSETTO:-0500
TZNAME:EST
DTSTART:20241103T060000
END:STANDARD
BEGIN:DAYLIGHT
TZOFFSETFROM:-0500
TZOFFSETTO:-0400
TZNAME:EDT
DTSTART:20250309T070000
END:DAYLIGHT
BEGIN:STANDARD
TZOFFSETFROM:-0400
TZOFFSETTO:-0500
TZNAME:EST
DTSTART:20251102T060000
END:STANDARD
END:VTIMEZONE
BEGIN:VEVENT
DTSTART;TZID=America/New_York:20240901T211500
DTEND;TZID=America/New_York:20240901T213000
DTSTAMP:20260422T002036
CREATED:20240831T163655Z
LAST-MODIFIED:20240831T163655Z
UID:75342-1725225300-1725226200@townofwindhamny.com
SUMMARY:Fireworks Display at Wylder Windham
DESCRIPTION:
URL:https://townofwindhamny.com/event/fireworks-display-at-wylder-windham/
LOCATION:Wylder Windham\, 19 Route 296\, Windham\, NY\, 12496\, United States
CATEGORIES:Community
END:VEVENT
BEGIN:VEVENT
DTSTART;TZID=America/New_York:20240905T190000
DTEND;TZID=America/New_York:20240905T190000
DTSTAMP:20260422T002036
CREATED:20231230T011837Z
LAST-MODIFIED:20231230T011837Z
UID:75008-1725562800-1725562800@townofwindhamny.com
SUMMARY:Planning Board Meeting
DESCRIPTION:
URL:https://townofwindhamny.com/event/planning-board-meeting-45/
LOCATION:Town Hall
CATEGORIES:Planning Board
ORGANIZER;CN="Town of Windham":MAILTO:windhamnytownclerk@gmail.com
END:VEVENT
BEGIN:VEVENT
DTSTART;TZID=America/New_York:20240912T190000
DTEND;TZID=America/New_York:20240912T190000
DTSTAMP:20260422T002036
CREATED:20231230T010453Z
LAST-MODIFIED:20231230T010453Z
UID:74959-1726167600-1726167600@townofwindhamny.com
SUMMARY:Town Board Meeting
DESCRIPTION:
URL:https://townofwindhamny.com/event/town-board-meeting-45/
LOCATION:Town Hall
CATEGORIES:Town Board
ORGANIZER;CN="Town of Windham":MAILTO:windhamnytownclerk@gmail.com
END:VEVENT
BEGIN:VEVENT
DTSTART;TZID=America/New_York:20240919T190000
DTEND;TZID=America/New_York:20240919T190000
DTSTAMP:20260422T002036
CREATED:20231230T011856Z
LAST-MODIFIED:20231230T011856Z
UID:75010-1726772400-1726772400@townofwindhamny.com
SUMMARY:Planning Board Meeting
DESCRIPTION:
URL:https://townofwindhamny.com/event/planning-board-meeting-46/
LOCATION:Town Hall
CATEGORIES:Planning Board
ORGANIZER;CN="Town of Windham":MAILTO:windhamnytownclerk@gmail.com
END:VEVENT
BEGIN:VEVENT
DTSTART;TZID=America/New_York:20240921T210000
DTEND;TZID=America/New_York:20240921T213000
DTSTAMP:20260422T002036
CREATED:20240831T163923Z
LAST-MODIFIED:20240831T163923Z
UID:75343-1726952400-1726954200@townofwindhamny.com
SUMMARY:Fireworks at Windham Manor
DESCRIPTION:
URL:https://townofwindhamny.com/event/fireworks-at-windham-manor/
LOCATION:Windham Manor\, 1161 County Route 10\, Windham\, NY\, 12496\, United States
CATEGORIES:Community
END:VEVENT
BEGIN:VEVENT
DTSTART;TZID=America/New_York:20240926T190000
DTEND;TZID=America/New_York:20240926T190000
DTSTAMP:20260422T002036
CREATED:20231230T010504Z
LAST-MODIFIED:20231230T010504Z
UID:74961-1727377200-1727377200@townofwindhamny.com
SUMMARY:Town Board Meeting
DESCRIPTION:
URL:https://townofwindhamny.com/event/town-board-meeting-46/
LOCATION:Town Hall
CATEGORIES:Town Board
ORGANIZER;CN="Town of Windham":MAILTO:windhamnytownclerk@gmail.com
END:VEVENT
END:VCALENDAR